BEGIN:VCALENDAR
VERSION:2.0
PRODID:-//Feuerwehr Gottfrieding - ECPv6.15.20//NONSGML v1.0//EN
CALSCALE:GREGORIAN
METHOD:PUBLISH
X-WR-CALNAME:Feuerwehr Gottfrieding
X-ORIGINAL-URL:https://feuerwehr-gottfrieding.de
X-WR-CALDESC:Veranstaltungen für Feuerwehr Gottfrieding
REFRESH-INTERVAL;VALUE=DURATION:PT1H
X-Robots-Tag:noindex
X-PUBLISHED-TTL:PT1H
BEGIN:VTIMEZONE
TZID:UTC
BEGIN:STANDARD
TZOFFSETFROM:+0000
TZOFFSETTO:+0000
TZNAME:UTC
DTSTART:20220101T000000
END:STANDARD
END:VTIMEZONE
BEGIN:VEVENT
DTSTART;TZID=UTC:20230501T140000
DTEND;TZID=UTC:20230501T233000
DTSTAMP:20260425T034343
CREATED:20230421T183714Z
LAST-MODIFIED:20230421T183714Z
UID:676-1682949600-1682983800@feuerwehr-gottfrieding.de
SUMMARY:Traditionelles Maibaum Aufstellen
DESCRIPTION:
URL:https://feuerwehr-gottfrieding.de/event/traditionelles-maibaum-aufstellen/
LOCATION:Feuerwehr Gottfrieding\, Bahnhofstraße 6\, Gottfrieding\, Bayern\, 84177\, Deutschland
ATTACH;FMTTYPE=image/jpeg:https://feuerwehr-gottfrieding.de/wp-content/uploads/2023/04/337749796_614597213893581_346242768563243258_n.jpg
END:VEVENT
BEGIN:VEVENT
DTSTART;TZID=UTC:20230430T190000
DTEND;TZID=UTC:20230501T020000
DTSTAMP:20260425T034343
CREATED:20230421T183445Z
LAST-MODIFIED:20230421T183445Z
UID:672-1682881200-1682906400@feuerwehr-gottfrieding.de
SUMMARY:Tanz in den Mai Party
DESCRIPTION:
URL:https://feuerwehr-gottfrieding.de/event/tanz-in-den-mai-party/
LOCATION:Feuerwehr Gottfrieding\, Bahnhofstraße 6\, Gottfrieding\, Bayern\, 84177\, Deutschland
ATTACH;FMTTYPE=image/jpeg:https://feuerwehr-gottfrieding.de/wp-content/uploads/2023/04/337749796_614597213893581_346242768563243258_n.jpg
END:VEVENT
END:VCALENDAR